BEGIN:VCALENDAR
VERSION:2.0
PRODID:-//Greater Houston Dental Society - ECPv6.15.17.1//NONSGML v1.0//EN
CALSCALE:GREGORIAN
METHOD:PUBLISH
X-WR-CALNAME:Greater Houston Dental Society
X-ORIGINAL-URL:https://www.ghds.org
X-WR-CALDESC:Events for Greater Houston Dental Society
REFRESH-INTERVAL;VALUE=DURATION:PT1H
X-Robots-Tag:noindex
X-PUBLISHED-TTL:PT1H
BEGIN:VTIMEZONE
TZID:UTC
BEGIN:STANDARD
TZOFFSETFROM:+0000
TZOFFSETTO:+0000
TZNAME:UTC
DTSTART:20240101T000000
END:STANDARD
END:VTIMEZONE
BEGIN:VEVENT
DTSTART;TZID=UTC:20250228T090000
DTEND;TZID=UTC:20250228T110000
DTSTAMP:20260422T101750
CREATED:20250113T172209Z
LAST-MODIFIED:20250113T172615Z
UID:1660-1740733200-1740740400@www.ghds.org
SUMMARY:OSHA Annual Training\, February 28\, 2025
DESCRIPTION:Ensure your office is up-to-date with OSHA (Occupational Safety and Health Administration) requirements as required by law. \nFriday\, February 28\, 2025 · 9 – 11am CST – Virtual \nREGISTER HERE  \n  \n 
URL:https://www.ghds.org/event/osha-february-2025/
LOCATION:GHDS Zoom
END:VEVENT
END:VCALENDAR