BEGIN:VCALENDAR
VERSION:2.0
PRODID:-//Greater Houston Dental Society - ECPv6.15.17.1//NONSGML v1.0//EN
CALSCALE:GREGORIAN
METHOD:PUBLISH
X-WR-CALNAME:Greater Houston Dental Society
X-ORIGINAL-URL:https://www.ghds.org
X-WR-CALDESC:Events for Greater Houston Dental Society
REFRESH-INTERVAL;VALUE=DURATION:PT1H
X-Robots-Tag:noindex
X-PUBLISHED-TTL:PT1H
BEGIN:VTIMEZONE
TZID:UTC
BEGIN:STANDARD
TZOFFSETFROM:+0000
TZOFFSETTO:+0000
TZNAME:UTC
DTSTART:20250101T000000
END:STANDARD
END:VTIMEZONE
BEGIN:VEVENT
DTSTART;TZID=UTC:20260514T180000
DTEND;TZID=UTC:20260514T220000
DTSTAMP:20260424T163741
CREATED:20250708T185242Z
LAST-MODIFIED:20260416T151738Z
UID:2358-1778781600-1778796000@www.ghds.org
SUMMARY:2026 Installation of Officers & Directors
DESCRIPTION:2026 Greater Houston Dental Society Installation of Officers & Directors Dinner\nJoin us for an elegant and memorable evening as we welcome the 2026–2027 GHDS Board of Directors and honor the outstanding achievements of our members.\nThursday\, May 14\, 2026 | 6 pm to 10 pm | Brennan’s of Houston \nThe celebration will feature:\nMusic by Amp’d String Quartet\nCocktail and hors d’oeuvres reception\nA beautifully curated 4‑course dinner\nSpecial recognition of Dr. John Valenza\, DDS\nDean and the William N. Finnegan III Distinguished Teaching Professor in the Dental Sciences at UTHealth Houston School of Dentistry\nMaster of Ceremonies – Dr. Duc “Duke” Ho\nKeynote Speaker – Mr. Sean Pendergast\nMorning Host on SportsRadio 610\nHost of the Houston Texans Post Game Show\nAward-Winning Contributor to the Houston Press\nDental Scholarship Presentation \nGHDS BOARD OF DIRECTORS 2026-2027\nOfficers\nPresident – Dr. Katie Stuchlik\nPresident Elect – Dr. Eva Boldridge\n1st Vice President – Dr. Michael Chan\n2nd Vice President – Dr. Cindy Flanagan\nSecretary-Treasurer – Dr. Adam Shisler\nImmediate Past President – Dr. Joel Vela\nDirectors\nDr. Joseph Bernier\nDr. Michael Chan\nDr. Dr. David Montz\nDr. Dr. Adrien Theriot\nDr. Adriana Salinas\nDr. Becky Wang \nDress Code: Evening attire\nWe look forward to celebrating with you at this signature GHDS event—an evening of connection\, recognition and inspiration.\nTickets: $155 / Per Person \nMeet the Event Partners\nPresenting Sponsor\nWinstar Insurance \nFeatured Sponsors\nBioHorizons\nPatterson Dental \nEvent Sponsors\nBank of America\nFirst Citizens Bank\nMcLerran & Associates\nWatson Brown \nCancellation Policy: No refunds after Friday\, May 8\, 2026. All cancellations prior to May 8\, 2026 will be assessed a 25% administrative fee.
URL:https://www.ghds.org/event/2026-installation-of-officers/
END:VEVENT
BEGIN:VEVENT
DTSTART;TZID=UTC:20260611T183000
DTEND;TZID=UTC:20260611T203000
DTSTAMP:20260424T163741
CREATED:20260317T030346Z
LAST-MODIFIED:20260317T030346Z
UID:3367-1781202600-1781209800@www.ghds.org
SUMMARY:PVS to Pixels to Prints | A Digital Dentistry CE Dinner Program for Early Career Dentists
DESCRIPTION:The Printer That Never Takes a Break — 3D Dentistry in the Background\nA Digital Dentistry CE Dinner Program for Early Career Dentists \nJune 11\, 2026 | 6:30–8:30 PM\nCyclone Anaya’s | 3736 Westheimer Road\, Houston\nDinner Included | 1 CE Hour | $42 \nPartners:\nAlign Technology\nHuntington Bank\nMcLerran & Associates \nFeaturing: Chance Hunsaker\, D.D.S. UT Houston | Master’s in Digital Dentistry\, MUSC | Third-generation Texas dentist. First-generation digital. \nFull program details coming soon.
URL:https://www.ghds.org/event/pvs-to-pixels-to-prints-a-digital-dentistry-ce-dinner-program-for-early-career-dentists/
LOCATION:Cyclone Anaya’s\, 3736 Westheimer Road\, Houston\, TX\, 77027\, United States
END:VEVENT
BEGIN:VEVENT
DTSTART;TZID=UTC:20260724T090000
DTEND;TZID=UTC:20260724T110000
DTSTAMP:20260424T163741
CREATED:20251022T161013Z
LAST-MODIFIED:20251022T161013Z
UID:2863-1784883600-1784890800@www.ghds.org
SUMMARY:OSHA ANNUAL TRAINING
DESCRIPTION:Ensure your office is up to date with OSHA (Occupational Safety and Health Administration) requirements as required by law.\nThis online course is designed to help you understand and fulfill these annual requirements as well as help to significantly reduce the risk of accidents\, illnesses or injuries in the workplace. Bloodborne pathogens\, dental office responsibility\, medical waste disposal\, hazardous communication standard and the requirements for practicing during the COVID-19 pandemic are some of the topics that will be covered. This course is intended for all dentists and auxiliary staff. \nLearning Objectives:\n• How to meet the OSHA Bloodborne Pathogen Standard’s annual training requirements\n• Knowledge of Center for Disease Control’s (CDC) infection control standards for dentistry\n• Knowledge of the requirements for practicing during the COVID-19 pandemic \nAll courses are live online via Zoom (A link will be emailed). Participants will receive a letter certifying their attendance upon the conclusion of the course and verification of attendance. \nGreater Houston Dental Society is an ADA CERP Recognized Provider. ADA CERP is a service of the American Dental Association to assist dental professionals in identifying quality providers of continuing dental education. ADA CERP does not approve or endorse individual courses or instructors\, nor does it imply acceptance of credit hours by boards of dentistry.
URL:https://www.ghds.org/event/osha-annual-training-3/
END:VEVENT
BEGIN:VEVENT
DTSTART;TZID=UTC:20260925T070000
DTEND;TZID=UTC:20260926T190000
DTSTAMP:20260424T163741
CREATED:20260320T160451Z
LAST-MODIFIED:20260320T160451Z
UID:3387-1790319600-1790449200@www.ghds.org
SUMMARY:2026 STAR OF THE SOUTH DENTAL CONFERENCE
DESCRIPTION:Visit starofthesouth.org for more details and information.
URL:https://www.ghds.org/event/2026-star-of-the-south-dental-conference/
END:VEVENT
BEGIN:VEVENT
DTSTART;VALUE=DATE:20261119
DTEND;VALUE=DATE:20261120
DTSTAMP:20260424T163741
CREATED:20250708T192633Z
LAST-MODIFIED:20260204T191959Z
UID:2362-1795046400-1795132799@www.ghds.org
SUMMARY:Legislative Meeting
DESCRIPTION:Details + Registration Coming Soon.
URL:https://www.ghds.org/event/legislative-meeting/
END:VEVENT
END:VCALENDAR